BEGIN:VCALENDAR
VERSION:2.0
PRODID:-// - ECPv6.15.20//NONSGML v1.0//EN
CALSCALE:GREGORIAN
METHOD:PUBLISH
X-ORIGINAL-URL:https://ckd-dillingen.de
X-WR-CALDESC:Veranstaltungen für 
REFRESH-INTERVAL;VALUE=DURATION:PT1H
X-Robots-Tag:noindex
X-PUBLISHED-TTL:PT1H
BEGIN:VTIMEZONE
TZID:UTC
BEGIN:STANDARD
TZOFFSETFROM:+0000
TZOFFSETTO:+0000
TZNAME:UTC
DTSTART:20250101T000000
END:STANDARD
END:VTIMEZONE
BEGIN:VEVENT
DTSTART;TZID=UTC:20261003T190000
DTEND;TZID=UTC:20261003T190000
DTSTAMP:20260421T185113
CREATED:20260420T192608Z
LAST-MODIFIED:20260420T192837Z
UID:3106-1791054000-1791054000@ckd-dillingen.de
SUMMARY:3oktober - Deutschland singt und lacht
DESCRIPTION:3oktober – Deutschland singt und lacht \nDer Gemeinschaftschor des Chorverband Kreis Dillingen Donau e.V. singt Lieder des Friedens im Rahmen der Initiative 3oktober;  Landrat Markus Müller spricht zu Frieden und Demokratie \nChöre:  Information folgt zu einem späteren Zeitpunkt
URL:https://ckd-dillingen.de/termin/3oktober-deutschland-singt-und-lacht-2026/
LOCATION:Bethlehemkirche Wertingen\, Fere-Straße 6\, Werrtingen\, 86637\, Germany
ORGANIZER;CN="Chorverband Kreis Dillingen Donau e.V.":MAILTO:info@ckd-dillingen.de
END:VEVENT
END:VCALENDAR