BEGIN:VCALENDAR
VERSION:2.0
PRODID:-// - ECPv6.15.20//NONSGML v1.0//EN
CALSCALE:GREGORIAN
METHOD:PUBLISH
X-ORIGINAL-URL:https://ckd-dillingen.de
X-WR-CALDESC:Veranstaltungen für 
REFRESH-INTERVAL;VALUE=DURATION:PT1H
X-Robots-Tag:noindex
X-PUBLISHED-TTL:PT1H
BEGIN:VTIMEZONE
TZID:Europe/Berlin
BEGIN:DAYLIGHT
TZOFFSETFROM:+0100
TZOFFSETTO:+0200
TZNAME:CEST
DTSTART:20250330T010000
END:DAYLIGHT
BEGIN:STANDARD
TZOFFSETFROM:+0200
TZOFFSETTO:+0100
TZNAME:CET
DTSTART:20251026T010000
END:STANDARD
BEGIN:DAYLIGHT
TZOFFSETFROM:+0100
TZOFFSETTO:+0200
TZNAME:CEST
DTSTART:20260329T010000
END:DAYLIGHT
BEGIN:STANDARD
TZOFFSETFROM:+0200
TZOFFSETTO:+0100
TZNAME:CET
DTSTART:20261025T010000
END:STANDARD
BEGIN:DAYLIGHT
TZOFFSETFROM:+0100
TZOFFSETTO:+0200
TZNAME:CEST
DTSTART:20270328T010000
END:DAYLIGHT
BEGIN:STANDARD
TZOFFSETFROM:+0200
TZOFFSETTO:+0100
TZNAME:CET
DTSTART:20271031T010000
END:STANDARD
END:VTIMEZONE
BEGIN:VEVENT
DTSTART;TZID=Europe/Berlin:20260520T193000
DTEND;TZID=Europe/Berlin:20260520T203000
DTSTAMP:20260421T152319
CREATED:20260420T191106Z
LAST-MODIFIED:20260420T191106Z
UID:3100-1779305400-1779309000@ckd-dillingen.de
SUMMARY:Musikalische Kirchenführung mit Deutung der Fresken
DESCRIPTION:Gesangverein Dillingen lädt zur musikalischen Kirchenführung nach Steinheim in die Pfarrkirche Marä Reinigung ein. Erklärung und Deutung der wunderschönen Fresken durch Chorleiter und Moderator Xaver Käser.\nmusikalische Unterstützung durch Pianist Günter Englert und Violistin Myroslava Fotul
URL:https://ckd-dillingen.de/termin/musikalische-kirchenfuehrung-2026/
END:VEVENT
END:VCALENDAR